BEGIN:VCALENDAR
VERSION:2.0
PRODID:SchoolNow
CALSCALE:GREGORIAN
BEGIN:VEVENT
UID:86e756de-91f9-11ed-8b6b-0a52209dcc57
DTSTAMP:20230524T204902Z
SUMMARY:Regular Board Meeting - Preliminary Budget for 2023-2024
LOCATION:High School Library In-Person
URL;VALUE=URI:https://www.steelvalleysd.org/communication/calendar/3664270/
 regular-board-meeting-preliminary-budget-for-2023-2024
DTSTART:20230525T230000Z
DTEND:20230526T000000Z
ATTACH;FILENAME="May 25, 2023 Regular Agenda.pdf";FMTTYPE=application/pdf:h
 ttps://campussuite-storage.s3.amazonaws.com/prod/1074787/6763d576-3536-11e
 7-9e05-124f7febbf4a/2600212/59e60dae-fa74-11ed-a3af-0e653818cdc9/file/May 
 25\, 2023 Regular Agenda.pdf
END:VEVENT
END:VCALENDAR
