BEGIN:VCALENDAR
VERSION:2.0
PRODID:SchoolNow
CALSCALE:GREGORIAN
BEGIN:VEVENT
UID:556cc7c4-91f9-11ed-8e6c-0a52209dcc57
DTSTAMP:20230427T000029Z
SUMMARY:Regular Board Meeting
URL;VALUE=URI:https://www.steelvalleysd.org/communication/calendar/3664269/
 regular-board-meeting
DTSTART:20230427T230000Z
DTEND:20230428T000000Z
ATTACH;FILENAME="April 27, 2023 Regular Agenda.pdf";FMTTYPE=application/pdf
 :https://campussuite-storage.s3.amazonaws.com/prod/1074787/6763d576-3536-1
 1e7-9e05-124f7febbf4a/2584435/7faa2d64-e48e-11ed-8275-02ecb9295a2f/file/Ap
 ril 27\, 2023 Regular Agenda.pdf
END:VEVENT
END:VCALENDAR
