BEGIN:VCALENDAR
VERSION:2.0
PRODID:SchoolNow
CALSCALE:GREGORIAN
BEGIN:VEVENT
UID:23e9a6cc-91f9-11ed-a2ba-0a52209dcc57
DTSTAMP:20230329T205528Z
SUMMARY:Regular Board Meeting
LOCATION:High School Library In-Person
URL;VALUE=URI:https://www.steelvalleysd.org/communication/calendar/3664268/
 regular-board-meeting
DTSTART:20230330T230000Z
DTEND:20230331T000000Z
ATTACH;FILENAME="March 30, 2023 Regular Agenda .pdf";FMTTYPE=application/pd
 f:https://campussuite-storage.s3.amazonaws.com/prod/1074787/6763d576-3536-
 11e7-9e05-124f7febbf4a/2574308/ee1720d0-ce73-11ed-a219-0e969d3fce8d/file/M
 arch 30\, 2023 Regular Agenda .pdf
END:VEVENT
END:VCALENDAR
