BEGIN:VCALENDAR
VERSION:2.0
PRODID:SchoolNow
CALSCALE:GREGORIAN
BEGIN:VEVENT
UID:01c7eedc-91f9-11ed-b996-0a52209dcc57
DTSTAMP:20231202T012053Z
SUMMARY:Board Worksession - Reorganization
LOCATION:High School Library
URL;VALUE=URI:https://www.steelvalleysd.org/communication/calendar/3664267/
 board-worksession-reorganization
DTSTART:20231205T003000Z
DTEND:20231205T013000Z
ATTACH;FILENAME="December 4, 2023 Reorganization Worksession Agenda.pdf";FM
 TTYPE=application/pdf:https://campussuite-storage.s3.amazonaws.com/prod/10
 74787/6763d576-3536-11e7-9e05-124f7febbf4a/2707869/0014821e-90b1-11ee-ba8e
 -0a58a9feac02/file/December 4\, 2023 Reorganization Worksession Agenda.pdf
END:VEVENT
END:VCALENDAR
