BEGIN:VCALENDAR
VERSION:2.0
PRODID:SchoolNow
CALSCALE:GREGORIAN
BEGIN:VEVENT
UID:c0f3c764-91f8-11ed-9f67-0a52209dcc57
DTSTAMP:20231020T195808Z
SUMMARY:Board Worksession
LOCATION:High School Library
URL;VALUE=URI:https://www.steelvalleysd.org/communication/calendar/3664266/
 board-worksession
DTSTART:20231023T233000Z
DTEND:20231024T003000Z
ATTACH;FILENAME="October 23, 2023 Worksession Agenda.pdf";FMTTYPE=applicati
 on/pdf:https://campussuite-storage.s3.amazonaws.com/prod/1074787/6763d576-
 3536-11e7-9e05-124f7febbf4a/2684144/f2791452-6f82-11ee-b1c9-02927856db83/f
 ile/October 23\, 2023 Worksession Agenda.pdf
END:VEVENT
END:VCALENDAR
