BEGIN:VCALENDAR
VERSION:2.0
PRODID:SchoolNow
CALSCALE:GREGORIAN
BEGIN:VEVENT
UID:ac5c125c-91f8-11ed-b489-0a52209dcc57
DTSTAMP:20230922T194502Z
SUMMARY:Board Worksession
LOCATION:High School Library
URL;VALUE=URI:https://www.steelvalleysd.org/communication/calendar/3664265/
 board-worksession
DTSTART:20230925T233000Z
DTEND:20230926T003000Z
ATTACH;FILENAME="September 25, 2023 Worksession.pdf";FMTTYPE=application/pd
 f:https://campussuite-storage.s3.amazonaws.com/prod/1074787/6763d576-3536-
 11e7-9e05-124f7febbf4a/2666762/1a286174-5980-11ee-82ca-0a58a9feac02/file/S
 eptember 25\, 2023 Worksession.pdf
END:VEVENT
END:VCALENDAR
