BEGIN:VCALENDAR
VERSION:2.0
PRODID:SchoolNow
CALSCALE:GREGORIAN
BEGIN:VEVENT
UID:858ee5fa-91f8-11ed-86e4-0a52209dcc57
DTSTAMP:20230815T001407Z
SUMMARY:Board Worksession
LOCATION:High School Library
URL;VALUE=URI:https://www.steelvalleysd.org/communication/calendar/3664264/
 board-worksession
DTSTART:20230814T233000Z
DTEND:20230815T003000Z
END:VEVENT
END:VCALENDAR
