BEGIN:VCALENDAR
VERSION:2.0
PRODID:SchoolNow
CALSCALE:GREGORIAN
BEGIN:VEVENT
UID:754831a6-91f8-11ed-a9d9-0a52209dcc57
DTSTAMP:20230721T183749Z
SUMMARY:Board Worksession
LOCATION:High School Library
URL;VALUE=URI:https://www.steelvalleysd.org/communication/calendar/3664263/
 board-worksession
DTSTART:20230724T233000Z
DTEND:20230725T003000Z
ATTACH;FILENAME="July 24, 2023 Worksession Agenda.pdf";FMTTYPE=application/
 pdf:https://campussuite-storage.s3.amazonaws.com/prod/1074787/6763d576-353
 6-11e7-9e05-124f7febbf4a/2632611/a9337974-27f5-11ee-93fa-0ee2d59701f1/file
 /July 24\, 2023 Worksession Agenda.pdf
END:VEVENT
END:VCALENDAR
