BEGIN:VCALENDAR
VERSION:2.0
PRODID:SchoolNow
CALSCALE:GREGORIAN
BEGIN:VEVENT
UID:675aec28-91f8-11ed-bf11-0a52209dcc57
DTSTAMP:20230623T195454Z
SUMMARY:Board Worksession
LOCATION:High School Library
URL;VALUE=URI:https://www.steelvalleysd.org/communication/calendar/3664262/
 board-worksession
DTSTART:20230626T233000Z
DTEND:20230627T003000Z
ATTACH;FILENAME="June 26, 2023 Worksession Agenda.pdf";FMTTYPE=application/
 pdf:https://campussuite-storage.s3.amazonaws.com/prod/1074787/6763d576-353
 6-11e7-9e05-124f7febbf4a/2622380/c81cd99a-11ff-11ee-82a4-0e4d1906bd6b/file
 /June 26\, 2023 Worksession Agenda.pdf
END:VEVENT
END:VCALENDAR
