BEGIN:VCALENDAR
VERSION:2.0
PRODID:SchoolNow
CALSCALE:GREGORIAN
BEGIN:VEVENT
UID:597971ce-91f8-11ed-a8e0-0a52209dcc57
DTSTAMP:20230520T004449Z
SUMMARY:Board Worksession
LOCATION:High School Library
URL;VALUE=URI:https://www.steelvalleysd.org/communication/calendar/3664261/
 board-worksession
DTSTART:20230522T233000Z
DTEND:20230523T003000Z
ATTACH;FILENAME="May 22, 2023 Worksession Agenda.pdf";FMTTYPE=application/p
 df:https://campussuite-storage.s3.amazonaws.com/prod/1074787/6763d576-3536
 -11e7-9e05-124f7febbf4a/2597441/79c34356-f6a7-11ed-85e2-0aaddfc33135/file/
 May 22\, 2023 Worksession Agenda.pdf
END:VEVENT
END:VCALENDAR
