BEGIN:VCALENDAR
VERSION:2.0
PRODID:SchoolNow
CALSCALE:GREGORIAN
BEGIN:VEVENT
UID:46da252c-91f8-11ed-a825-0a52209dcc57
DTSTAMP:20230421T193410Z
SUMMARY:Board Worksession
LOCATION:High School Library
URL;VALUE=URI:https://www.steelvalleysd.org/communication/calendar/3664260/
 board-worksession
DTSTART:20230424T233000Z
DTEND:20230425T003000Z
ATTACH;FILENAME="April 24, 2023 Worksession.pdf";FMTTYPE=application/pdf:ht
 tps://campussuite-storage.s3.amazonaws.com/prod/1074787/6763d576-3536-11e7
 -9e05-124f7febbf4a/2582841/73e79d7a-e07b-11ed-ae51-0adf38efb4d7/file/April
  24\, 2023 Worksession.pdf
END:VEVENT
END:VCALENDAR
