BEGIN:VCALENDAR
VERSION:2.0
PRODID:SchoolNow
CALSCALE:GREGORIAN
BEGIN:VEVENT
UID:19e577a6-91f8-11ed-b258-0a52209dcc57
DTSTAMP:20230324T191640Z
SUMMARY:Board Worksession
LOCATION:High School Library
URL;VALUE=URI:https://www.steelvalleysd.org/communication/calendar/3664259/
 board-worksession
DTSTART:20230327T233000Z
DTEND:20230328T003000Z
ATTACH;FILENAME="March 27, 2023 Worksession.pdf";FMTTYPE=application/pdf:ht
 tps://campussuite-storage.s3.amazonaws.com/prod/1074787/6763d576-3536-11e7
 -9e05-124f7febbf4a/2572618/51254d96-ca78-11ed-8524-02ea0b79bfd3/file/March
  27\, 2023 Worksession.pdf
END:VEVENT
END:VCALENDAR
