BEGIN:VCALENDAR
VERSION:2.0
PRODID:SchoolNow
CALSCALE:GREGORIAN
BEGIN:VEVENT
UID:de67cbb0-8c53-11ed-8042-0aa375bd7fdb
DTSTAMP:20230104T171855Z
SUMMARY:Barrett and Park Physical Exams
LOCATION:Barrett and Park Elementary
URL;VALUE=URI:https://www.steelvalleysd.org/communication/calendar/3655352/
 barrett-and-park-physical-exams
DTSTART:20230308T091700Z
DTEND:20230308T220000Z
END:VEVENT
END:VCALENDAR
