BEGIN:VCALENDAR
VERSION:2.0
PRODID:SchoolNow
CALSCALE:GREGORIAN
BEGIN:VEVENT
UID:b58ab22e-8b91-11ed-b99f-0ed36fcd01ef
DTSTAMP:20230103T180905Z
SUMMARY:Progress Reports
LOCATION:Steel Valley School District
URL;VALUE=URI:https://www.steelvalleysd.org/communication/calendar/3654296/
 progress-reports
DTSTART:20230503T120000Z
DTEND:20230503T200000Z
END:VEVENT
END:VCALENDAR
