BEGIN:VCALENDAR
VERSION:2.0
PRODID:SchoolNow
CALSCALE:GREGORIAN
BEGIN:VEVENT
UID:908b7eae-8b91-11ed-907c-0ed36fcd01ef
DTSTAMP:20230103T180802Z
SUMMARY:Spring Break
LOCATION:Steel Valley School District
URL;VALUE=URI:https://www.steelvalleysd.org/communication/calendar/3654295/
 spring-break
DTSTART:20230406T170500Z
DTEND:20230410T180500Z
END:VEVENT
END:VCALENDAR
