BEGIN:VCALENDAR
VERSION:2.0
PRODID:SchoolNow
CALSCALE:GREGORIAN
BEGIN:VEVENT
UID:de8167ca-826a-11ed-ac67-0a8f0c4ca6cd
DTSTAMP:20230103T171803Z
SUMMARY:Early Dismissal for Students
LOCATION:Steel Valley School District
URL;VALUE=URI:https://www.steelvalleysd.org/communication/calendar/3650407/
 early-dismissal-for-students
DTSTART:20230105T130000Z
DTEND:20230105T210000Z
END:VEVENT
END:VCALENDAR
