BEGIN:VCALENDAR
VERSION:2.0
PRODID:SchoolNow
CALSCALE:GREGORIAN
BEGIN:VEVENT
UID:21349368-77f2-11ed-8c7a-0ec001b043f1
DTSTAMP:20230223T144420Z
SUMMARY:Regular Board Meeting
LOCATION:High School Library (In-person meeting and live stream)
URL;VALUE=URI:https://www.steelvalleysd.org/communication/calendar/3639454/
 regular-board-meeting
DTSTART:20230224T000000Z
DTEND:20230224T010000Z
ATTACH;FILENAME="February 23, 2023 Regular Agenda.pdf";FMTTYPE=application/
 pdf:https://campussuite-storage.s3.amazonaws.com/prod/1074787/6763d576-353
 6-11e7-9e05-124f7febbf4a/2554986/643c154c-b388-11ed-89a8-0a0e1677d9af/file
 /February 23\, 2023 Regular Agenda.pdf
END:VEVENT
END:VCALENDAR
