BEGIN:VCALENDAR
VERSION:2.0
PRODID:SchoolNow
CALSCALE:GREGORIAN
BEGIN:VEVENT
UID:f2ea7dc4-77f1-11ed-94db-0ec001b043f1
DTSTAMP:20230217T225033Z
SUMMARY:Board Worksession
LOCATION:High School Library (In-person meeting and live stream)
URL;VALUE=URI:https://www.steelvalleysd.org/communication/calendar/3639452/
 board-worksession
DTSTART:20230222T003000Z
DTEND:20230222T013000Z
ATTACH;FILENAME="February 21, 2023 Worksession Meeting.pdf";FMTTYPE=applica
 tion/pdf:https://campussuite-storage.s3.amazonaws.com/prod/1074787/6763d57
 6-3536-11e7-9e05-124f7febbf4a/2553856/6c7e4a30-af15-11ed-a5c2-0eb182f34a77
 /file/February 21\, 2023 Worksession Meeting.pdf
END:VEVENT
END:VCALENDAR
