BEGIN:VCALENDAR
VERSION:2.0
PRODID:SchoolNow
CALSCALE:GREGORIAN
BEGIN:VEVENT
UID:993f1406-77f1-11ed-9f05-0ec001b043f1
DTSTAMP:20230120T235307Z
SUMMARY:Board Worksession
LOCATION:High School Library (In-person meeting and live stream)
URL;VALUE=URI:https://www.steelvalleysd.org/communication/calendar/3639450/
 board-worksession-clone
DTSTART:20230124T003000Z
DTEND:20230124T013000Z
ATTACH;FILENAME="January 23, 2023 Worksession Meeting.pdf";FMTTYPE=applicat
 ion/pdf:https://campussuite-storage.s3.amazonaws.com/prod/1074787/6763d576
 -3536-11e7-9e05-124f7febbf4a/2539475/77e7a410-991d-11ed-b744-02d9d243b90f/
 file/January 23\, 2023 Worksession Meeting.pdf
END:VEVENT
END:VCALENDAR
