BEGIN:VCALENDAR
VERSION:2.0
PRODID:SchoolNow
CALSCALE:GREGORIAN
BEGIN:VEVENT
UID:5c56c20a-77f1-11ed-91a9-0ec001b043f1
DTSTAMP:20230125T205242Z
SUMMARY:Regular Board Meeting
LOCATION:High School Library (In-Person and Via Live Stream)
URL;VALUE=URI:https://www.steelvalleysd.org/communication/calendar/3639449/
 regular-board-meeting
DTSTART:20230127T000000Z
DTEND:20230127T010000Z
ATTACH;FILENAME="January 26, 2023 Regular Agenda.pdf";FMTTYPE=application/p
 df:https://campussuite-storage.s3.amazonaws.com/prod/1074787/6763d576-3536
 -11e7-9e05-124f7febbf4a/2541498/f5a34e86-9cf1-11ed-8a62-0217198b9e09/file/
 January 26\, 2023 Regular Agenda.pdf
END:VEVENT
END:VCALENDAR
