BEGIN:VCALENDAR
VERSION:2.0
PRODID:SchoolNow
CALSCALE:GREGORIAN
BEGIN:VEVENT
UID:38c572de-70b0-11ed-a26c-0e3e12df6353
DTSTAMP:20221130T130928Z
SUMMARY:Sounds of the Season
LOCATION:SVHS Auditorium
URL;VALUE=URI:https://www.steelvalleysd.org/communication/calendar/3629365/
 sounds-of-the-season
DTSTART:20221213T130300Z
DTEND:20221213T140300Z
ATTACH;FILENAME=Vocal Concert 12-13-22.pdf;FMTTYPE=application/pdf:https://
 campussuite-storage.s3.amazonaws.com/prod/1074787/6763d576-3536-11e7-9e05-
 124f7febbf4a/2517757/ee5b38fc-70ad-11ed-b9d5-0e3e12df6353/file/Vocal Conce
 rt 12-13-22.pdf
END:VEVENT
END:VCALENDAR
