BEGIN:VCALENDAR
VERSION:2.0
PRODID:SchoolNow
CALSCALE:GREGORIAN
BEGIN:VEVENT
UID:e0132368-7008-11ed-9376-0ed4ae006995
DTSTAMP:20221129T171133Z
SUMMARY:End of Grading Period
LOCATION:Steel Valley School District
URL;VALUE=URI:https://www.steelvalleysd.org/communication/calendar/3628294/
 end-of-grading-period-clone-clone
DTSTART:20230322T120000Z
DTEND:20230322T200000Z
END:VEVENT
END:VCALENDAR
