BEGIN:VCALENDAR
VERSION:2.0
PRODID:SchoolNow
CALSCALE:GREGORIAN
BEGIN:VEVENT
UID:b7325324-7008-11ed-bcf2-0ed4ae006995
DTSTAMP:20221129T171025Z
SUMMARY:Clerical Day/No School for Students
LOCATION:Steel Valley School District
URL;VALUE=URI:https://www.steelvalleysd.org/communication/calendar/3628293/
 clerical-day-no-school-for-students
DTSTART:20230324T120000Z
DTEND:20230324T200000Z
END:VEVENT
END:VCALENDAR
