BEGIN:VCALENDAR
VERSION:2.0
PRODID:SchoolNow
CALSCALE:GREGORIAN
BEGIN:VEVENT
UID:81632642-7008-11ed-a349-0ed4ae006995
DTSTAMP:20221129T170855Z
SUMMARY:Early Dismissal for Students
LOCATION:Steel Valley School District
URL;VALUE=URI:https://www.steelvalleysd.org/communication/calendar/3628290/
 early-dismissal-for-students
DTSTART:20230309T130000Z
DTEND:20230309T210000Z
END:VEVENT
END:VCALENDAR
