BEGIN:VCALENDAR
VERSION:2.0
PRODID:SchoolNow
CALSCALE:GREGORIAN
BEGIN:VEVENT
UID:45cc6aa8-7008-11ed-982a-0ed4ae006995
DTSTAMP:20221129T170715Z
SUMMARY:Progress Reports
LOCATION:Steel Valley School District
URL;VALUE=URI:https://www.steelvalleysd.org/communication/calendar/3628289/
 progress-reports
DTSTART:20230221T130000Z
DTEND:20230221T210000Z
END:VEVENT
END:VCALENDAR
