BEGIN:VCALENDAR
VERSION:2.0
PRODID:SchoolNow
CALSCALE:GREGORIAN
BEGIN:VEVENT
UID:1c21699c-7008-11ed-85fa-0ed4ae006995
DTSTAMP:20230125T200611Z
SUMMARY:President's Day/No School for Students & Staff
LOCATION:Steel Valley School District
URL;VALUE=URI:https://www.steelvalleysd.org/communication/calendar/3628288/
 presidents-day-no-school-for-students-staff
DTSTART:20230220T130000Z
DTEND:20230220T210000Z
END:VEVENT
END:VCALENDAR
