BEGIN:VCALENDAR
VERSION:2.0
PRODID:SchoolNow
CALSCALE:GREGORIAN
BEGIN:VEVENT
UID:42368f20-6a9c-11ed-8ab7-0e089b8c8c75
DTSTAMP:20221122T193127Z
SUMMARY:School Resumes after Winter Break
LOCATION:Seel Valley School District
URL;VALUE=URI:https://www.steelvalleysd.org/communication/calendar/3622604/
 thanksgiving-break-clone-clone
DTSTART:20230103T130000Z
DTEND:20230103T210000Z
END:VEVENT
END:VCALENDAR
