BEGIN:VCALENDAR
VERSION:2.0
PRODID:SchoolNow
CALSCALE:GREGORIAN
BEGIN:VEVENT
UID:8db98044-5a14-11ed-8410-0aa700da01d5
DTSTAMP:20221101T184613Z
SUMMARY:Semi Formal Tickets
URL;VALUE=URI:https://www.steelvalleysd.org/communication/calendar/3579003/
 semi-formal-tickets
DTSTART:20221205T120000Z
DTEND:20221210T045500Z
END:VEVENT
END:VCALENDAR
