BEGIN:VCALENDAR
VERSION:2.0
PRODID:SchoolNow
CALSCALE:GREGORIAN
BEGIN:VEVENT
UID:f32aec5a-552e-11ed-b9c3-0282787a95ad
DTSTAMP:20221026T130605Z
SUMMARY:Winter Semi-Formal
LOCATION:Saint John Cathedral Center
URL;VALUE=URI:https://www.steelvalleysd.org/communication/calendar/3561976/
 winter-semi-formal
DTSTART:20230107T230000Z
DTEND:20230108T030000Z
END:VEVENT
END:VCALENDAR
