BEGIN:VCALENDAR
VERSION:2.0
PRODID:SchoolNow
CALSCALE:GREGORIAN
BEGIN:VEVENT
UID:d9f83734-514f-11ed-992d-02fb0be6be4d
DTSTAMP:20221021T145131Z
SUMMARY:Report Cards
LOCATION:Steel Valley School District
URL;VALUE=URI:https://www.steelvalleysd.org/communication/calendar/3546646/
 report-cards
DTSTART:20230123T120000Z
DTEND:20230124T010000Z
END:VEVENT
END:VCALENDAR
