BEGIN:VCALENDAR
VERSION:2.0
PRODID:SchoolNow
CALSCALE:GREGORIAN
BEGIN:VEVENT
UID:9787d1e4-514e-11ed-8321-02fb0be6be4d
DTSTAMP:20230103T195132Z
SUMMARY:No School For Students
LOCATION:Steel Valley School District
URL;VALUE=URI:https://www.steelvalleysd.org/communication/calendar/3546627/
 no-school-for-students-clone
DTSTART:20230117T090000Z
DTEND:20230117T210000Z
END:VEVENT
END:VCALENDAR
