BEGIN:VCALENDAR
VERSION:2.0
PRODID:SchoolNow
CALSCALE:GREGORIAN
BEGIN:VEVENT
UID:78b950b2-514e-11ed-822f-02fb0be6be4d
DTSTAMP:20230103T195112Z
SUMMARY:Martin Luther King Holiday
LOCATION:Steel Valley School District
URL;VALUE=URI:https://www.steelvalleysd.org/communication/calendar/3546626/
 no-school-for-students-clone
DTSTART:20230116T090000Z
DTEND:20230116T210000Z
END:VEVENT
END:VCALENDAR
