BEGIN:VCALENDAR
VERSION:2.0
PRODID:SchoolNow
CALSCALE:GREGORIAN
BEGIN:VEVENT
UID:0a34b76c-514e-11ed-8140-02fb0be6be4d
DTSTAMP:20221021T143833Z
SUMMARY:End of Grading Period
LOCATION:Steel Valley School District
URL;VALUE=URI:https://www.steelvalleysd.org/communication/calendar/3546620/
 end-of-grading-period-clone
DTSTART:20230113T130000Z
DTEND:20230113T210000Z
END:VEVENT
END:VCALENDAR
