BEGIN:VCALENDAR
VERSION:2.0
PRODID:SchoolNow
CALSCALE:GREGORIAN
BEGIN:VEVENT
UID:06300f00-514d-11ed-90d5-02fb0be6be4d
DTSTAMP:20221021T143117Z
SUMMARY:Winter Break
LOCATION:Seel Valley School District
URL;VALUE=URI:https://www.steelvalleysd.org/communication/calendar/3546603/
 thanksgiving-break-clone
DTSTART:20221223T090000Z
DTEND:20230102T210000Z
END:VEVENT
END:VCALENDAR
