BEGIN:VCALENDAR
VERSION:2.0
PRODID:SchoolNow
CALSCALE:GREGORIAN
BEGIN:VEVENT
UID:d4b85758-514b-11ed-84b1-02fb0be6be4d
DTSTAMP:20221021T142318Z
SUMMARY:Progress Reports
LOCATION:Steel Valley School District
URL;VALUE=URI:https://www.steelvalleysd.org/communication/calendar/3546602/
 progress-reports
DTSTART:20221212T130000Z
DTEND:20221212T210000Z
END:VEVENT
END:VCALENDAR
