BEGIN:VCALENDAR
VERSION:2.0
PRODID:SchoolNow
CALSCALE:GREGORIAN
BEGIN:VEVENT
UID:8a929e3c-3da9-11ed-97c5-0ee95dcafca5
DTSTAMP:20220926T144310Z
SUMMARY:Fall - Caremobile
LOCATION:Steel Valley High School
URL;VALUE=URI:https://www.steelvalleysd.org/communication/calendar/3446099/
 fall-caremobile
DTSTART:20221219T143000Z
DTEND:20221219T183000Z
ATTACH;FILENAME=care mobile fall 2022.pdf;FMTTYPE=application/pdf:https://c
 ampussuite-storage.s3.amazonaws.com/prod/1074787/6763d576-3536-11e7-9e05-1
 24f7febbf4a/2482046/df05d45e-3da7-11ed-9295-0ee95dcafca5/file/care mobile 
 fall 2022.pdf
END:VEVENT
END:VCALENDAR
