BEGIN:VCALENDAR
VERSION:2.0
PRODID:SchoolNow
CALSCALE:GREGORIAN
BEGIN:VEVENT
UID:5bc1b5f2-3b74-11ed-a970-0eecb219c945
DTSTAMP:20220923T191726Z
SUMMARY:No School for Students - Act 80 Day
LOCATION:Steel Valley School District
URL;VALUE=URI:https://www.steelvalleysd.org/communication/calendar/3434527/
 no-school-for-students-act-80-day
DTSTART:20230405T191300Z
DTEND:20230405T201300Z
END:VEVENT
END:VCALENDAR
