BEGIN:VCALENDAR
VERSION:2.0
PRODID:SchoolNow
CALSCALE:GREGORIAN
BEGIN:VEVENT
UID:f325f518-2a10-11ed-b1d3-0e9a59fb4d83
DTSTAMP:20220901T161300Z
SUMMARY:SV 2023 Commencement
LOCATION:William V. Campbell Athletic Field
URL;VALUE=URI:https://www.steelvalleysd.org/communication/calendar/3329073/
 sv-2023-commencement
DTSTART:20230531T160900Z
DTEND:20230531T170900Z
END:VEVENT
END:VCALENDAR
