BEGIN:VCALENDAR
VERSION:2.0
PRODID:SchoolNow
CALSCALE:GREGORIAN
BEGIN:VEVENT
UID:c29ba70a-66d7-11ec-8383-0eefb544b06f
DTSTAMP:20221207T224519Z
SUMMARY:Regular Board Meeting
LOCATION:High School Library In-Person and Via Live Stream
URL;VALUE=URI:https://www.steelvalleysd.org/communication/calendar/2991198/
 regular-board-meeting
DTSTART:20221209T000000Z
DTEND:20221209T010000Z
ATTACH;FILENAME="Regular Agenda December 8, 2022.pdf";FMTTYPE=application/p
 df:https://campussuite-storage.s3.amazonaws.com/prod/1074787/6763d576-3536
 -11e7-9e05-124f7febbf4a/2522504/c52b95ca-7680-11ed-bf0a-0afd1d87f10d/file/
 Regular Agenda December 8\, 2022.pdf
END:VEVENT
END:VCALENDAR
