BEGIN:VCALENDAR
VERSION:2.0
PRODID:SchoolNow
CALSCALE:GREGORIAN
BEGIN:VEVENT
UID:01109678-66d6-11ec-a57c-0eefb544b06f
DTSTAMP:20221202T210946Z
SUMMARY:Board Worksession - Reorganization
LOCATION:High School Library
URL;VALUE=URI:https://www.steelvalleysd.org/communication/calendar/2991189/
 board-worksession-reorganization
DTSTART:20221206T003000Z
DTEND:20221206T013000Z
ATTACH;FILENAME="Reorganization Agenda  Worksession December 5, 2022.pdf";F
 MTTYPE=application/pdf:https://campussuite-storage.s3.amazonaws.com/prod/1
 074787/6763d576-3536-11e7-9e05-124f7febbf4a/2520378/23eab4ec-7285-11ed-920
 b-0ae9085150a7/file/Reorganization Agenda  Worksession December 5\, 2022.p
 df
END:VEVENT
END:VCALENDAR
