BEGIN:VCALENDAR
VERSION:2.0
PRODID:SchoolNow
CALSCALE:GREGORIAN
BEGIN:VEVENT
UID:7094d3ea-f9fc-11e9-a277-0a6f90957389
DTSTAMP:20191031T024249Z
SUMMARY:Report Cards
LOCATION:Steel Valley School District
URL;VALUE=URI:https://www.steelvalleysd.org/communication/calendar/2134276/
 report-cards
DTSTART:20200123T050000Z
DTEND:20200124T045500Z
END:VEVENT
END:VCALENDAR
