BEGIN:VCALENDAR
VERSION:2.0
PRODID:SchoolNow
CALSCALE:GREGORIAN
BEGIN:VEVENT
UID:50cde43e-faa2-11e8-b2d6-12aa5b7489aa
DTSTAMP:20191024T150048Z
SUMMARY:Board Worksession
LOCATION:High School Library
URL;VALUE=URI:https://www.steelvalleysd.org/communication/calendar/1916858/
 board-worksession
DTSTART:20190722T233000Z
DTEND:20190722T233500Z
END:VEVENT
END:VCALENDAR
